Package: pRoloc Version: 1.47.1 Command: chmod a+r pRoloc -R && E:\biocbuild\bbs-3.21-bioc\R\bin\R.exe CMD build --keep-empty-dirs --no-resave-data pRoloc StartedAt: 2025-01-31 20:42:10 -0500 (Fri, 31 Jan 2025) EndedAt: 2025-01-31 20:53:04 -0500 (Fri, 31 Jan 2025) EllapsedTime: 654.1 seconds RetCode: 0 Status: OK PackageFile: pRoloc_1.47.1.tar.gz PackageFileSize: 6.257 MiB