Package: pRoloc Version: 1.47.1 Command: rm -rf pRoloc.buildbin-libdir && mkdir pRoloc.buildbin-libdir && E:\biocbuild\bbs-3.21-bioc\R\bin\R.exe CMD INSTALL --build --library=pRoloc.buildbin-libdir pRoloc_1.47.1.tar.gz StartedAt: 2025-02-01 07:55:41 -0500 (Sat, 01 Feb 2025) EndedAt: 2025-02-01 07:58:14 -0500 (Sat, 01 Feb 2025) EllapsedTime: 153.2 seconds RetCode: 0 Status: OK PackageFile: pRoloc_1.47.1.zip PackageFileSize: 6.325 MiB