Package: oposSOM Version: 2.25.0 Command: /Library/Frameworks/R.framework/Resources/bin/R CMD INSTALL oposSOM StartedAt: 2025-01-31 15:20:42 -0500 (Fri, 31 Jan 2025) EndedAt: 2025-01-31 15:21:27 -0500 (Fri, 31 Jan 2025) EllapsedTime: 45.1 seconds RetCode: 0 Status: OK