Package: omicsPrint Version: 1.27.0 Command: /home/biocbuild/R/R/bin/R CMD build --keep-empty-dirs --no-resave-data omicsPrint StartedAt: 2025-01-29 00:57:46 -0000 (Wed, 29 Jan 2025) EndedAt: 2025-01-29 01:00:23 -0000 (Wed, 29 Jan 2025) EllapsedTime: 157.2 seconds RetCode: 0 Status: OK PackageFile: omicsPrint_1.27.0.tar.gz PackageFileSize: 4.193 MiB