Package: omicade4 Version: 1.47.0 Command: /home/biocbuild/bbs-3.21-bioc/R/bin/R CMD build --keep-empty-dirs --no-resave-data omicade4 StartedAt: 2025-01-31 18:30:06 -0500 (Fri, 31 Jan 2025) EndedAt: 2025-01-31 18:30:38 -0500 (Fri, 31 Jan 2025) EllapsedTime: 32.0 seconds RetCode: 0 Status: OK PackageFile: omicade4_1.47.0.tar.gz PackageFileSize: 543.1 KiB