Package: omicade4 Version: 1.47.0 Command: /Library/Frameworks/R.framework/Resources/bin/R CMD INSTALL omicade4 StartedAt: 2025-01-31 15:14:21 -0500 (Fri, 31 Jan 2025) EndedAt: 2025-01-31 15:14:51 -0500 (Fri, 31 Jan 2025) EllapsedTime: 30.1 seconds RetCode: 0 Status: OK