Package: oligoClasses Version: 1.69.0 Command: chmod a+r oligoClasses -R && E:\biocbuild\bbs-3.21-bioc\R\bin\R.exe CMD build --keep-empty-dirs --no-resave-data oligoClasses StartedAt: 2025-01-31 20:13:18 -0500 (Fri, 31 Jan 2025) EndedAt: 2025-01-31 20:13:23 -0500 (Fri, 31 Jan 2025) EllapsedTime: 5.8 seconds RetCode: 0 Status: OK PackageFile: oligoClasses_1.69.0.tar.gz PackageFileSize: 364.5 KiB