Package: oligo Version: 1.71.0 Command: /home/biocbuild/R/R/bin/R CMD build --keep-empty-dirs --no-resave-data oligo StartedAt: 2025-01-29 00:56:23 -0000 (Wed, 29 Jan 2025) EndedAt: 2025-01-29 00:56:26 -0000 (Wed, 29 Jan 2025) EllapsedTime: 3.0 seconds RetCode: 1 Status: ERROR PackageFile: None PackageFileSize: NA