Package: octad Version: 1.9.0 Command: /home/biocbuild/bbs-3.21-bioc/R/bin/R CMD build --keep-empty-dirs --no-resave-data octad StartedAt: 2025-01-31 18:29:46 -0500 (Fri, 31 Jan 2025) EndedAt: 2025-01-31 18:33:23 -0500 (Fri, 31 Jan 2025) EllapsedTime: 216.3 seconds RetCode: 0 Status: OK PackageFile: octad_1.9.0.tar.gz PackageFileSize: 1.328 MiB