Package: octad Version: 1.9.0 Command: /Library/Frameworks/R.framework/Resources/bin/R CMD build --keep-empty-dirs --no-resave-data octad StartedAt: 2025-01-31 17:39:24 -0500 (Fri, 31 Jan 2025) EndedAt: 2025-01-31 17:45:39 -0500 (Fri, 31 Jan 2025) EllapsedTime: 375.0 seconds RetCode: 0 Status: OK PackageFile: octad_1.9.0.tar.gz PackageFileSize: 1.311 MiB