Package: nucleR Version: 2.39.0 Command: /Library/Frameworks/R.framework/Resources/bin/R CMD build --keep-empty-dirs --no-resave-data nucleR StartedAt: 2025-01-31 17:10:02 -0500 (Fri, 31 Jan 2025) EndedAt: 2025-01-31 17:10:33 -0500 (Fri, 31 Jan 2025) EllapsedTime: 30.4 seconds RetCode: 0 Status: OK PackageFile: nucleR_2.39.0.tar.gz PackageFileSize: 1.822 MiB