Package: npGSEA Version: 1.43.0 Command: /home/biocbuild/R/R/bin/R CMD check --install=check:npGSEA.install-out.txt --library=/home/biocbuild/R/R/site-library --no-vignettes --timings npGSEA_1.43.0.tar.gz StartedAt: 2025-01-28 13:24:04 -0000 (Tue, 28 Jan 2025) EndedAt: 2025-01-28 13:26:56 -0000 (Tue, 28 Jan 2025) EllapsedTime: 172.5 seconds RetCode: 0 Status: OK CheckDir: npGSEA.Rcheck Warnings: 0