Package: npGSEA Version: 1.43.0 Command: /home/biocbuild/R/R/bin/R CMD build --keep-empty-dirs --no-resave-data npGSEA StartedAt: 2025-01-29 00:54:38 -0000 (Wed, 29 Jan 2025) EndedAt: 2025-01-29 00:55:27 -0000 (Wed, 29 Jan 2025) EllapsedTime: 48.1 seconds RetCode: 0 Status: OK PackageFile: npGSEA_1.43.0.tar.gz PackageFileSize: 360.3 KiB