Package: nipalsMCIA Version: 1.5.2 Command: /home/biocbuild/R/R/bin/R CMD INSTALL nipalsMCIA StartedAt: 2025-01-29 20:16:05 -0000 (Wed, 29 Jan 2025) EndedAt: 2025-01-29 20:16:41 -0000 (Wed, 29 Jan 2025) EllapsedTime: 35.3 seconds RetCode: 0 Status: OK