Package: netboost Version: 2.15.0 Command: /Library/Frameworks/R.framework/Resources/bin/R CMD build --keep-empty-dirs --no-resave-data netboost StartedAt: 2025-01-31 17:36:19 -0500 (Fri, 31 Jan 2025) EndedAt: 2025-01-31 17:37:36 -0500 (Fri, 31 Jan 2025) EllapsedTime: 76.4 seconds RetCode: 0 Status: OK PackageFile: netboost_2.15.0.tar.gz PackageFileSize: 1.132 MiB