Package: netSmooth Version: 1.27.0 Command: /home/biocbuild/bbs-3.21-bioc/R/bin/R CMD INSTALL netSmooth StartedAt: 2025-01-31 15:56:13 -0500 (Fri, 31 Jan 2025) EndedAt: 2025-01-31 15:56:58 -0500 (Fri, 31 Jan 2025) EllapsedTime: 45.7 seconds RetCode: 0 Status: OK