Package: ncdfFlow Version: 2.53.1 Command: /home/biocbuild/bbs-3.21-bioc/R/bin/R CMD build --keep-empty-dirs --no-resave-data ncdfFlow StartedAt: 2025-01-31 18:24:45 -0500 (Fri, 31 Jan 2025) EndedAt: 2025-01-31 18:25:10 -0500 (Fri, 31 Jan 2025) EllapsedTime: 25.0 seconds RetCode: 0 Status: OK PackageFile: ncdfFlow_2.53.1.tar.gz PackageFileSize: 198.6 KiB