Package: ncdfFlow Version: 2.53.1 Command: /Library/Frameworks/R.framework/Resources/bin/R CMD INSTALL ncdfFlow StartedAt: 2025-01-31 15:04:21 -0500 (Fri, 31 Jan 2025) EndedAt: 2025-01-31 15:04:27 -0500 (Fri, 31 Jan 2025) EllapsedTime: 5.9 seconds RetCode: 0 Status: OK