Package: ncdfFlow Version: 2.53.1 Command: /Library/Frameworks/R.framework/Resources/bin/R CMD check --install=check:ncdfFlow.install-out.txt --library=/Library/Frameworks/R.framework/Resources/library --no-vignettes --timings ncdfFlow_2.53.1.tar.gz StartedAt: 2025-01-31 20:27:25 -0500 (Fri, 31 Jan 2025) EndedAt: 2025-01-31 20:28:02 -0500 (Fri, 31 Jan 2025) EllapsedTime: 36.4 seconds RetCode: 0 Status: WARNINGS CheckDir: ncdfFlow.Rcheck Warnings: 3