Package: ncGTW Version: 1.21.0 Command: rm -rf ncGTW.buildbin-libdir && mkdir ncGTW.buildbin-libdir && /Users/biocbuild/BBS/utils/build-universal.sh ncGTW_1.21.0.tar.gz /Library/Frameworks/R.framework/Resources/bin/R ncGTW.buildbin-libdir StartedAt: 2025-02-01 00:29:06 -0500 (Sat, 01 Feb 2025) EndedAt: 2025-02-01 00:30:32 -0500 (Sat, 01 Feb 2025) EllapsedTime: 85.4 seconds RetCode: 0 Status: OK PackageFile: ncGTW_1.21.0.tgz PackageFileSize: 2.102 MiB