Package: mzR Version: 2.41.1 Command: /home/biocbuild/bbs-3.21-bioc/R/bin/R CMD INSTALL mzR StartedAt: 2025-01-31 15:12:45 -0500 (Fri, 31 Jan 2025) EndedAt: 2025-01-31 15:21:04 -0500 (Fri, 31 Jan 2025) EllapsedTime: 498.8 seconds RetCode: 0 Status: OK