Package: mzR Version: 2.41.1 Command: /home/biocbuild/bbs-3.21-bioc/R/bin/R CMD build --keep-empty-dirs --no-resave-data mzR StartedAt: 2025-01-31 18:23:59 -0500 (Fri, 31 Jan 2025) EndedAt: 2025-01-31 18:33:31 -0500 (Fri, 31 Jan 2025) EllapsedTime: 571.8 seconds RetCode: 0 Status: OK PackageFile: mzR_2.41.1.tar.gz PackageFileSize: 7.363 MiB