Package: mzR Version: 2.41.1 Command: /Library/Frameworks/R.framework/Resources/bin/R CMD check --install=check:mzR.install-out.txt --library=/Library/Frameworks/R.framework/Resources/library --no-vignettes --timings mzR_2.41.1.tar.gz StartedAt: 2025-01-31 21:50:31 -0500 (Fri, 31 Jan 2025) EndedAt: 2025-01-31 21:52:16 -0500 (Fri, 31 Jan 2025) EllapsedTime: 104.5 seconds RetCode: 0 Status: WARNINGS CheckDir: mzR.Rcheck Warnings: 2