Package: muscle Version: 3.49.0 Command: E:\biocbuild\bbs-3.21-bioc\R\bin\R.exe CMD INSTALL muscle StartedAt: 2025-01-31 15:39:26 -0500 (Fri, 31 Jan 2025) EndedAt: 2025-01-31 15:40:37 -0500 (Fri, 31 Jan 2025) EllapsedTime: 71.6 seconds RetCode: 1 Status: ERROR