Package: muscat Version: 1.21.0 Command: /Library/Frameworks/R.framework/Resources/bin/R CMD check --install=check:muscat.install-out.txt --library=/Library/Frameworks/R.framework/Resources/library --no-vignettes --timings muscat_1.21.0.tar.gz StartedAt: 2025-01-31 21:49:28 -0500 (Fri, 31 Jan 2025) EndedAt: 2025-01-31 21:56:15 -0500 (Fri, 31 Jan 2025) EllapsedTime: 406.7 seconds RetCode: 0 Status: OK CheckDir: muscat.Rcheck Warnings: 0