Package: muscat Version: 1.21.0 Command: /Library/Frameworks/R.framework/Resources/bin/R CMD INSTALL muscat StartedAt: 2025-01-31 15:24:58 -0500 (Fri, 31 Jan 2025) EndedAt: 2025-01-31 15:25:12 -0500 (Fri, 31 Jan 2025) EllapsedTime: 14.6 seconds RetCode: 0 Status: OK