Package: multicrispr Version: 1.17.1 Command: chmod a+r multicrispr -R && E:\biocbuild\bbs-3.21-bioc\R\bin\R.exe CMD build --keep-empty-dirs --no-resave-data multicrispr StartedAt: 2025-01-31 20:03:13 -0500 (Fri, 31 Jan 2025) EndedAt: 2025-01-31 20:06:02 -0500 (Fri, 31 Jan 2025) EllapsedTime: 169.6 seconds RetCode: 0 Status: OK PackageFile: multicrispr_1.17.1.tar.gz PackageFileSize: 1.967 MiB