Package: multicrispr Version: 1.17.1 Command: rm -rf multicrispr.buildbin-libdir && mkdir multicrispr.buildbin-libdir && E:\biocbuild\bbs-3.21-bioc\R\bin\R.exe CMD INSTALL --build --library=multicrispr.buildbin-libdir multicrispr_1.17.1.tar.gz StartedAt: 2025-02-01 07:44:29 -0500 (Sat, 01 Feb 2025) EndedAt: 2025-02-01 07:45:48 -0500 (Sat, 01 Feb 2025) EllapsedTime: 79.1 seconds RetCode: 0 Status: OK PackageFile: multicrispr_1.17.1.zip PackageFileSize: 2.135 MiB