Package: multicrispr Version: 1.17.1 Command: /home/biocbuild/R/R/bin/R CMD INSTALL multicrispr StartedAt: 2025-01-29 20:32:56 -0000 (Wed, 29 Jan 2025) EndedAt: 2025-01-29 20:33:44 -0000 (Wed, 29 Jan 2025) EllapsedTime: 48.2 seconds RetCode: 0 Status: OK