Package: multiMiR Version: 1.29.0 Command: /home/biocbuild/bbs-3.21-bioc/R/bin/R CMD check --install=check:multiMiR.install-out.txt --library=/home/biocbuild/bbs-3.21-bioc/R/site-library --timings multiMiR_1.29.0.tar.gz StartedAt: 2025-02-01 00:33:47 -0500 (Sat, 01 Feb 2025) EndedAt: 2025-02-01 00:36:56 -0500 (Sat, 01 Feb 2025) EllapsedTime: 189.3 seconds RetCode: 0 Status: OK CheckDir: multiMiR.Rcheck Warnings: 0