Package: multiHiCcompare Version: 1.25.0 Command: /Library/Frameworks/R.framework/Resources/bin/R CMD build --keep-empty-dirs --no-resave-data multiHiCcompare StartedAt: 2025-01-31 17:06:10 -0500 (Fri, 31 Jan 2025) EndedAt: 2025-01-31 17:06:37 -0500 (Fri, 31 Jan 2025) EllapsedTime: 27.3 seconds RetCode: 0 Status: OK PackageFile: multiHiCcompare_1.25.0.tar.gz PackageFileSize: 4.723 MiB