Package: mslp Version: 1.9.0 Command: E:\biocbuild\bbs-3.21-bioc\R\bin\R.exe CMD INSTALL mslp StartedAt: 2025-01-31 15:42:15 -0500 (Fri, 31 Jan 2025) EndedAt: 2025-01-31 15:42:24 -0500 (Fri, 31 Jan 2025) EllapsedTime: 9.4 seconds RetCode: 0 Status: OK