Package: mslp Version: 1.9.0 Command: E:\biocbuild\bbs-3.21-bioc\R\bin\R.exe CMD check --no-multiarch --install=check:mslp.install-out.txt --library=E:\biocbuild\bbs-3.21-bioc\R\library --no-vignettes --timings mslp_1.9.0.tar.gz StartedAt: 2025-02-01 02:58:00 -0500 (Sat, 01 Feb 2025) EndedAt: 2025-02-01 02:59:27 -0500 (Sat, 01 Feb 2025) EllapsedTime: 86.2 seconds RetCode: 0 Status: OK CheckDir: mslp.Rcheck Warnings: 0