Package: mpra Version: 1.29.0 Command: /Library/Frameworks/R.framework/Resources/bin/R CMD build --keep-empty-dirs --no-resave-data mpra StartedAt: 2025-01-31 17:03:32 -0500 (Fri, 31 Jan 2025) EndedAt: 2025-01-31 17:03:52 -0500 (Fri, 31 Jan 2025) EllapsedTime: 20.2 seconds RetCode: 0 Status: OK PackageFile: mpra_1.29.0.tar.gz PackageFileSize: 3.331 MiB