Package: motifmatchr Version: 1.29.0 Command: rm -rf motifmatchr.buildbin-libdir && mkdir motifmatchr.buildbin-libdir && E:\biocbuild\bbs-3.21-bioc\R\bin\R.exe CMD INSTALL --build --library=motifmatchr.buildbin-libdir motifmatchr_1.29.0.tar.gz StartedAt: 2025-02-03 07:46:22 -0500 (Mon, 03 Feb 2025) EndedAt: 2025-02-03 07:47:36 -0500 (Mon, 03 Feb 2025) EllapsedTime: 74.4 seconds RetCode: 0 Status: OK PackageFile: motifmatchr_1.29.0.zip PackageFileSize: 512.3 KiB