Package: motifcounter Version: 1.31.0 Command: rm -rf motifcounter.buildbin-libdir && mkdir motifcounter.buildbin-libdir && E:\biocbuild\bbs-3.21-bioc\R\bin\R.exe CMD INSTALL --build --library=motifcounter.buildbin-libdir motifcounter_1.31.0.tar.gz StartedAt: 2025-02-01 07:41:47 -0500 (Sat, 01 Feb 2025) EndedAt: 2025-02-01 07:42:40 -0500 (Sat, 01 Feb 2025) EllapsedTime: 52.5 seconds RetCode: 0 Status: OK PackageFile: motifcounter_1.31.0.zip PackageFileSize: 685.4 KiB