Package: motifcounter Version: 1.31.0 Command: /home/biocbuild/bbs-3.21-bioc/R/bin/R CMD build --keep-empty-dirs --no-resave-data motifcounter StartedAt: 2025-01-31 18:16:44 -0500 (Fri, 31 Jan 2025) EndedAt: 2025-01-31 18:17:47 -0500 (Fri, 31 Jan 2025) EllapsedTime: 63.1 seconds RetCode: 0 Status: OK PackageFile: motifcounter_1.31.0.tar.gz PackageFileSize: 557.5 KiB