Package: motifTestR Version: 1.3.3 Command: /Library/Frameworks/R.framework/Resources/bin/R CMD check --install=check:motifTestR.install-out.txt --library=/Library/Frameworks/R.framework/Resources/library --no-vignettes --timings motifTestR_1.3.3.tar.gz StartedAt: 2025-01-31 21:39:14 -0500 (Fri, 31 Jan 2025) EndedAt: 2025-01-31 21:42:16 -0500 (Fri, 31 Jan 2025) EllapsedTime: 181.9 seconds RetCode: 0 Status: OK CheckDir: motifTestR.Rcheck Warnings: 0