Package: mogsa Version: 1.41.0 Command: /Library/Frameworks/R.framework/Resources/bin/R CMD check --install=check:mogsa.install-out.txt --library=/Library/Frameworks/R.framework/Resources/library --no-vignettes --timings mogsa_1.41.0.tar.gz StartedAt: 2025-01-31 20:14:56 -0500 (Fri, 31 Jan 2025) EndedAt: 2025-01-31 20:15:53 -0500 (Fri, 31 Jan 2025) EllapsedTime: 56.7 seconds RetCode: 0 Status: OK CheckDir: mogsa.Rcheck Warnings: 0