Package: mobileRNA Version: 1.3.0 Command: E:\biocbuild\bbs-3.21-bioc\R\bin\R.exe CMD INSTALL mobileRNA StartedAt: 2025-01-31 16:20:16 -0500 (Fri, 31 Jan 2025) EndedAt: 2025-01-31 16:21:10 -0500 (Fri, 31 Jan 2025) EllapsedTime: 54.2 seconds RetCode: 0 Status: OK