Package: moanin Version: 1.15.0 Command: rm -rf moanin.buildbin-libdir && mkdir moanin.buildbin-libdir && /Users/biocbuild/BBS/utils/build-universal.sh moanin_1.15.0.tar.gz /Library/Frameworks/R.framework/Resources/bin/R moanin.buildbin-libdir StartedAt: 2025-02-03 00:32:49 -0500 (Mon, 03 Feb 2025) EndedAt: 2025-02-03 00:33:38 -0500 (Mon, 03 Feb 2025) EllapsedTime: 49.5 seconds RetCode: 0 Status: OK PackageFile: moanin_1.15.0.tgz PackageFileSize: 1003 KiB