Package: mixOmics Version: 6.31.4 Command: /home/biocbuild/bbs-3.21-bioc/R/bin/R CMD INSTALL mixOmics StartedAt: 2025-01-31 15:35:16 -0500 (Fri, 31 Jan 2025) EndedAt: 2025-01-31 15:35:47 -0500 (Fri, 31 Jan 2025) EllapsedTime: 31.1 seconds RetCode: 0 Status: OK