Package: mixOmics Version: 6.31.4 Command: /home/biocbuild/bbs-3.21-bioc/R/bin/R CMD check --install=check:mixOmics.install-out.txt --library=/home/biocbuild/bbs-3.21-bioc/R/site-library --timings mixOmics_6.31.4.tar.gz StartedAt: 2025-02-01 00:11:09 -0500 (Sat, 01 Feb 2025) EndedAt: 2025-02-01 00:38:01 -0500 (Sat, 01 Feb 2025) EllapsedTime: 1612.1 seconds RetCode: 0 Status: OK CheckDir: mixOmics.Rcheck Warnings: 0