Package: mixOmics Version: 6.31.4 Command: /Library/Frameworks/R.framework/Resources/bin/R CMD INSTALL mixOmics StartedAt: 2025-01-31 15:14:42 -0500 (Fri, 31 Jan 2025) EndedAt: 2025-01-31 15:14:54 -0500 (Fri, 31 Jan 2025) EllapsedTime: 12.1 seconds RetCode: 0 Status: OK