Package: mitch Version: 1.19.3 Command: /Library/Frameworks/R.framework/Resources/bin/R CMD check --install=check:mitch.install-out.txt --library=/Library/Frameworks/R.framework/Resources/library --no-vignettes --timings mitch_1.19.3.tar.gz StartedAt: 2025-01-31 20:12:10 -0500 (Fri, 31 Jan 2025) EndedAt: 2025-01-31 20:13:28 -0500 (Fri, 31 Jan 2025) EllapsedTime: 77.9 seconds RetCode: 0 Status: OK CheckDir: mitch.Rcheck Warnings: 0