Package: mitch Version: 1.19.3 Command: /Library/Frameworks/R.framework/Resources/bin/R CMD build --keep-empty-dirs --no-resave-data mitch StartedAt: 2025-01-31 16:59:25 -0500 (Fri, 31 Jan 2025) EndedAt: 2025-01-31 17:02:55 -0500 (Fri, 31 Jan 2025) EllapsedTime: 209.2 seconds RetCode: 0 Status: OK PackageFile: mitch_1.19.3.tar.gz PackageFileSize: 996 KiB