Package: missRows Version: 1.27.0 Command: chmod a+r missRows -R && E:\biocbuild\bbs-3.21-bioc\R\bin\R.exe CMD build --keep-empty-dirs --no-resave-data missRows StartedAt: 2025-01-31 19:47:21 -0500 (Fri, 31 Jan 2025) EndedAt: 2025-01-31 19:49:36 -0500 (Fri, 31 Jan 2025) EllapsedTime: 134.9 seconds RetCode: 0 Status: OK PackageFile: missRows_1.27.0.tar.gz PackageFileSize: 596.6 KiB