Package: microbiomeExplorer Version: 1.17.0 Command: /home/biocbuild/bbs-3.21-bioc/R/bin/R CMD INSTALL microbiomeExplorer StartedAt: 2025-01-31 15:53:45 -0500 (Fri, 31 Jan 2025) EndedAt: 2025-01-31 15:53:58 -0500 (Fri, 31 Jan 2025) EllapsedTime: 12.4 seconds RetCode: 0 Status: OK