Package: microbiome Version: 1.29.0 Command: /home/biocbuild/R/R/bin/R CMD check --install=check:microbiome.install-out.txt --library=/home/biocbuild/R/R/site-library --no-vignettes --timings microbiome_1.29.0.tar.gz StartedAt: 2025-01-28 12:26:36 -0000 (Tue, 28 Jan 2025) EndedAt: 2025-01-28 12:30:33 -0000 (Tue, 28 Jan 2025) EllapsedTime: 237.3 seconds RetCode: 0 Status: OK CheckDir: microbiome.Rcheck Warnings: 0