Package: microSTASIS Version: 1.7.0 Command: E:\biocbuild\bbs-3.21-bioc\R\bin\R.exe CMD INSTALL microSTASIS StartedAt: 2025-01-31 15:59:26 -0500 (Fri, 31 Jan 2025) EndedAt: 2025-01-31 15:59:44 -0500 (Fri, 31 Jan 2025) EllapsedTime: 18.6 seconds RetCode: 0 Status: OK